BEGIN:VCALENDAR
VERSION:2.0
PRODID:-//Genest Concrete - ECPv6.15.20//NONSGML v1.0//EN
CALSCALE:GREGORIAN
METHOD:PUBLISH
X-WR-CALNAME:Genest Concrete
X-ORIGINAL-URL:https://www.genest-concrete.com
X-WR-CALDESC:Events for Genest Concrete
REFRESH-INTERVAL;VALUE=DURATION:PT1H
X-Robots-Tag:noindex
X-PUBLISHED-TTL:PT1H
BEGIN:VTIMEZONE
TZID:America/New_York
BEGIN:DAYLIGHT
TZOFFSETFROM:-0500
TZOFFSETTO:-0400
TZNAME:EDT
DTSTART:20220313T070000
END:DAYLIGHT
BEGIN:STANDARD
TZOFFSETFROM:-0400
TZOFFSETTO:-0500
TZNAME:EST
DTSTART:20221106T060000
END:STANDARD
BEGIN:DAYLIGHT
TZOFFSETFROM:-0500
TZOFFSETTO:-0400
TZNAME:EDT
DTSTART:20230312T070000
END:DAYLIGHT
BEGIN:STANDARD
TZOFFSETFROM:-0400
TZOFFSETTO:-0500
TZNAME:EST
DTSTART:20231105T060000
END:STANDARD
BEGIN:DAYLIGHT
TZOFFSETFROM:-0500
TZOFFSETTO:-0400
TZNAME:EDT
DTSTART:20240310T070000
END:DAYLIGHT
BEGIN:STANDARD
TZOFFSETFROM:-0400
TZOFFSETTO:-0500
TZNAME:EST
DTSTART:20241103T060000
END:STANDARD
END:VTIMEZONE
BEGIN:VEVENT
DTSTART;TZID=America/New_York:20230829T110000
DTEND;TZID=America/New_York:20230829T140000
DTSTAMP:20260425T124309
CREATED:20230816T131140Z
LAST-MODIFIED:20230816T131211Z
UID:10000008-1693306800-1693317600@www.genest-concrete.com
SUMMARY:Black River Quarries Meet & Greet
DESCRIPTION:Stop by our Biddeford store on your lunch break for complimentary food and drinks and meet the owner of Black River Quarries\, here to showcase product samples and answer questions about their full range of high-grade natural stone and veneer! \nFrom the Green Mountains of Vermont\, Black River Quarries mines some of the best natural Vermont Granite and unique Mica Schists (metamorphic rock containing quartz). They produce a full line of landscape and masonry stone products including veneer\, flagging\, steps\, wall stone\, and more. Black River Quarries thinstone veneer\, featuring beautiful shades of gray\, blue\, and brown\, is a favorite of our customers and is available in a range of cuts. \nYou won’t want to miss the opportunity to check out product samples in person and learn more about how you can use this beautiful natural stone in your next masonry or landscaping project!
URL:https://www.genest-concrete.com/event/black-river-quarries-meet-greet/
LOCATION:Genest Concrete (Biddeford)\, 544 Elm Street\, Biddeford\, 04005\, United States
END:VEVENT
BEGIN:VEVENT
DTSTART;TZID=America/New_York:20230821T080000
DTEND;TZID=America/New_York:20230821T120000
DTSTAMP:20260425T124309
CREATED:20230810T200657Z
LAST-MODIFIED:20230810T201431Z
UID:10000002-1692604800-1692619200@www.genest-concrete.com
SUMMARY:Pangaea Customer Appreciation Event
DESCRIPTION:  \nEnjoy Food • See A New Idea in Stone Veneer • Get Free Gear \nCome and see why Pangaea Natural Stone thin veneer is one of the best quality thin veneers in the industry\, saving you valuable time and labor and making your job more profitable.
URL:https://www.genest-concrete.com/event/pangaea-customer-appreciation-event/
LOCATION:Genest Concrete (Biddeford)\, 544 Elm Street\, Biddeford\, 04005\, United States
END:VEVENT
END:VCALENDAR