BEGIN:VCALENDAR
VERSION:2.0
PRODID:-//Genest Concrete - ECPv6.15.20//NONSGML v1.0//EN
CALSCALE:GREGORIAN
METHOD:PUBLISH
X-ORIGINAL-URL:https://www.genest-concrete.com
X-WR-CALDESC:Events for Genest Concrete
REFRESH-INTERVAL;VALUE=DURATION:PT1H
X-Robots-Tag:noindex
X-PUBLISHED-TTL:PT1H
BEGIN:VTIMEZONE
TZID:America/New_York
BEGIN:DAYLIGHT
TZOFFSETFROM:-0500
TZOFFSETTO:-0400
TZNAME:EDT
DTSTART:20240310T070000
END:DAYLIGHT
BEGIN:STANDARD
TZOFFSETFROM:-0400
TZOFFSETTO:-0500
TZNAME:EST
DTSTART:20241103T060000
END:STANDARD
BEGIN:DAYLIGHT
TZOFFSETFROM:-0500
TZOFFSETTO:-0400
TZNAME:EDT
DTSTART:20250309T070000
END:DAYLIGHT
BEGIN:STANDARD
TZOFFSETFROM:-0400
TZOFFSETTO:-0500
TZNAME:EST
DTSTART:20251102T060000
END:STANDARD
BEGIN:DAYLIGHT
TZOFFSETFROM:-0500
TZOFFSETTO:-0400
TZNAME:EDT
DTSTART:20260308T070000
END:DAYLIGHT
BEGIN:STANDARD
TZOFFSETFROM:-0400
TZOFFSETTO:-0500
TZNAME:EST
DTSTART:20261101T060000
END:STANDARD
END:VTIMEZONE
BEGIN:VEVENT
DTSTART;TZID=America/New_York:20250614T080000
DTEND;TZID=America/New_York:20250614T160000
DTSTAMP:20260423T095821
CREATED:20250523T123610Z
LAST-MODIFIED:20250523T170504Z
UID:10000062-1749888000-1749916800@www.genest-concrete.com
SUMMARY:Genest Showroom Grand Opening – Biddeford\, ME
DESCRIPTION:Join us for the grand opening of the new Genest Showroom & Design Center in Biddeford — Southern Maine’s new destination for outdoor living inspiration! \nExplore our beautifully designed space featuring outdoor patio displays and an extensive selection of premium natural and manufactured stone\, landscape and retaining walls\, outdoor living features\, fireplaces and fire pits\, granite accents\, and more. Whether you’re a homeowner just starting to gather ideas or working closely with a contractor or designer\, this is the perfect place to spark your next project. \nThe new facility functions as both a showroom and a collaborative design center\, offering dedicated space where homeowners\, contractors\, and landscape designers can meet\, plan\, and select materials together. \nEnjoy complimentary coffee and pastries\, meet our knowledgeable sales team\, and take advantage of 10% off all Genest-manufactured products purchased in person during the event. \n🎁 Raffles & giveaways \n💰 One-day-only sale: 10% off Genest’s own Maine-made pavers\, wall stone\, and fire pits \n💡 A relaxing\, no-pressure environment to explore\, plan\, and get inspired \nWe can’t wait to welcome you to our new design hub in Biddeford! \nAdmission:Free and open to the public.
URL:https://www.genest-concrete.com/event/genest-showroom-grand-opening-biddeford-me/
LOCATION:Genest Concrete (Biddeford)\, 544 Elm Street\, Biddeford\, 04005\, United States
CATEGORIES:Biddeford
END:VEVENT
END:VCALENDAR