BEGIN:VCALENDAR
VERSION:2.0
PRODID:-//Genest Concrete - ECPv6.15.20//NONSGML v1.0//EN
CALSCALE:GREGORIAN
METHOD:PUBLISH
X-WR-CALNAME:Genest Concrete
X-ORIGINAL-URL:https://www.genest-concrete.com
X-WR-CALDESC:Events for Genest Concrete
REFRESH-INTERVAL;VALUE=DURATION:PT1H
X-Robots-Tag:noindex
X-PUBLISHED-TTL:PT1H
BEGIN:VTIMEZONE
TZID:America/New_York
BEGIN:DAYLIGHT
TZOFFSETFROM:-0500
TZOFFSETTO:-0400
TZNAME:EDT
DTSTART:20230312T070000
END:DAYLIGHT
BEGIN:STANDARD
TZOFFSETFROM:-0400
TZOFFSETTO:-0500
TZNAME:EST
DTSTART:20231105T060000
END:STANDARD
BEGIN:DAYLIGHT
TZOFFSETFROM:-0500
TZOFFSETTO:-0400
TZNAME:EDT
DTSTART:20240310T070000
END:DAYLIGHT
BEGIN:STANDARD
TZOFFSETFROM:-0400
TZOFFSETTO:-0500
TZNAME:EST
DTSTART:20241103T060000
END:STANDARD
BEGIN:DAYLIGHT
TZOFFSETFROM:-0500
TZOFFSETTO:-0400
TZNAME:EDT
DTSTART:20250309T070000
END:DAYLIGHT
BEGIN:STANDARD
TZOFFSETFROM:-0400
TZOFFSETTO:-0500
TZNAME:EST
DTSTART:20251102T060000
END:STANDARD
END:VTIMEZONE
BEGIN:VEVENT
DTSTART;TZID=America/New_York:20240515T100000
DTEND;TZID=America/New_York:20240515T140000
DTSTAMP:20260424T063433
CREATED:20240419T140816Z
LAST-MODIFIED:20240503T144511Z
UID:10000024-1715767200-1715781600@www.genest-concrete.com
SUMMARY:Nicolock and NPS Contractor Event with Cowboy Cauldron Cooking Demo
DESCRIPTION:Join us for an exclusive event at Genest and unlock endless possibilities for your outdoor space! \n\nMeet and greet with a Nicolock and NPS Outdoor Living dealer representative and dive into a world of stunning paving and wall stone options. Explore physical samples and learn about the vast selection of colors and styles that are stocked or available for special order through Genest. From rustic charm to contemporary elegance\, find the perfect look to complement your style.\n\n\nExperience the sizzle of the Cowboy Cauldron! Join us for lunch cooked on this unique fire pit\, which doubles as a grill and cooking vessel. Discover more products from NPS Outdoor Living to enhance your patio experience\, including gas insert kits and smoke-less fire pit inserts to fit the Genest and StoneFire CORE fire pits sold in our stores.\n\n\nCalling all contractors! Explore opportunities to expand your product offerings for the 2024 landscaping season. See color swatches\, comparison charts\, and other helpful tools. Homeowners\, envision your dream patio\, outdoor kitchen\, or cozy fire pit area with our physical product samples.\n\nDon’t miss out on this opportunity to elevate your outdoor living experience! Join us at Genest and bring your vision to life. \n  \n\n		\n		\n			\n				\n			\n			\n				\n			\n			\n				\n			\n			\n				\n			\n			\n				\n			\n			\n				\n			\n		\n\n  \n 
URL:https://www.genest-concrete.com/event/nicolock-and-nps-outdoor-living-meet-greet-cowboy-cauldron-demo-2/
LOCATION:Genest Concrete (Biddeford)\, 544 Elm Street\, Biddeford\, 04005\, United States
CATEGORIES:Biddeford
ATTACH;FMTTYPE=image/png:https://www.genest-concrete.com/wp-content/uploads/2024/04/Nicolock-Event-Heading-1.png
END:VEVENT
END:VCALENDAR