BEGIN:VCALENDAR
VERSION:2.0
PRODID:-//Genest Concrete - ECPv6.15.20//NONSGML v1.0//EN
CALSCALE:GREGORIAN
METHOD:PUBLISH
X-WR-CALNAME:Genest Concrete
X-ORIGINAL-URL:https://www.genest-concrete.com
X-WR-CALDESC:Events for Genest Concrete
REFRESH-INTERVAL;VALUE=DURATION:PT1H
X-Robots-Tag:noindex
X-PUBLISHED-TTL:PT1H
BEGIN:VTIMEZONE
TZID:America/New_York
BEGIN:DAYLIGHT
TZOFFSETFROM:-0500
TZOFFSETTO:-0400
TZNAME:EDT
DTSTART:20240310T070000
END:DAYLIGHT
BEGIN:STANDARD
TZOFFSETFROM:-0400
TZOFFSETTO:-0500
TZNAME:EST
DTSTART:20241103T060000
END:STANDARD
BEGIN:DAYLIGHT
TZOFFSETFROM:-0500
TZOFFSETTO:-0400
TZNAME:EDT
DTSTART:20250309T070000
END:DAYLIGHT
BEGIN:STANDARD
TZOFFSETFROM:-0400
TZOFFSETTO:-0500
TZNAME:EST
DTSTART:20251102T060000
END:STANDARD
BEGIN:DAYLIGHT
TZOFFSETFROM:-0500
TZOFFSETTO:-0400
TZNAME:EDT
DTSTART:20260308T070000
END:DAYLIGHT
BEGIN:STANDARD
TZOFFSETFROM:-0400
TZOFFSETTO:-0500
TZNAME:EST
DTSTART:20261101T060000
END:STANDARD
END:VTIMEZONE
BEGIN:VEVENT
DTSTART;TZID=America/New_York:20250702T073000
DTEND;TZID=America/New_York:20250702T100000
DTSTAMP:20260423T065907
CREATED:20250626T140433Z
LAST-MODIFIED:20250626T140433Z
UID:10000065-1751441400-1751450400@www.genest-concrete.com
SUMMARY:Comfort Block at the Midweek Break in Biddeford
DESCRIPTION:Featuring: Comfort Block \nStop by our Biddeford location Wednesday morning for coffee\, donuts\, and a hands-on look at one of the most innovative building systems on the market today. A Comfort Block mason will be on site to demonstrate how this masonry system can be used to quickly build everything from outdoor kitchens and fireplaces to sheds\, pool houses\, pillars\, and raised garden beds — all without mortar. Designed for speed\, strength\, and simplicity\, Comfort Block assembles using masonry adhesive. \nWhether you’re a contractor looking for a faster way to build structural features or a DIYer exploring what’s possible\, this is a great chance to see the system in action and ask questions. \n☕ Free coffee and donuts while they last! \n\n\n\n\n\n\n\n\n\nThe Midweek Break is a new weekly event series happening every Wednesday morning in Biddeford (and every Wednesday afternoon in Windham) all summer long. Same time\, same place—built to match your schedule and help you refuel midweek with product demos\, free coffee and refreshments\, and a quick catch-up with vendors you know and trust. \nNo RSVP required—just stop by any time between 7:30 and 10:00 AM. See you there!
URL:https://www.genest-concrete.com/event/comfort-block-at-the-midweek-break-in-biddeford/
LOCATION:Genest Concrete (Biddeford)\, 544 Elm Street\, Biddeford\, 04005\, United States
CATEGORIES:Biddeford
END:VEVENT
BEGIN:VEVENT
DTSTART;TZID=America/New_York:20250709T073000
DTEND;TZID=America/New_York:20250709T100000
DTSTAMP:20260423T065907
CREATED:20250701T165959Z
LAST-MODIFIED:20250701T165959Z
UID:10000068-1752046200-1752055200@www.genest-concrete.com
SUMMARY:NT Pavers at the Midweek Break in Biddeford
DESCRIPTION:ChatGPT said:\n\n\n\n\n\n\n\n\nWe’re excited to welcome NT Pavers as a new supplier this summer—bringing premium natural stone pavers directly from Turkey and Italy to your next project. \nJoin us for coffee and donuts at our Biddeford location on Wednesday\, July 9 and explore their beautiful collection of travertine\, slate\, sandstone\, marble\, granite\, and limestone—plus copings\, caps\, treads\, and custom fabrication options to match any jobsite need. \n\n\n\n\n\n\n\n\n☕ Free coffee and donuts while they last! \n\n\n\n\n\n\n\n\n\nThe Midweek Break is a new weekly event series happening every Wednesday morning in Biddeford (and every Wednesday afternoon in Windham) all summer long. Same time\, same place—built to match your schedule and help you refuel midweek with product demos\, free coffee and refreshments\, and a quick catch-up with vendors you know and trust. \nNo RSVP required—just stop by any time between 7:30 and 10:00 AM. See you there!
URL:https://www.genest-concrete.com/event/nt-pavers-at-the-midweek-break-in-biddeford/
LOCATION:Genest Concrete (Biddeford)\, 544 Elm Street\, Biddeford\, 04005\, United States
CATEGORIES:Biddeford
END:VEVENT
BEGIN:VEVENT
DTSTART;TZID=America/New_York:20250716T073000
DTEND;TZID=America/New_York:20250716T100000
DTSTAMP:20260423T065907
CREATED:20250703T125733Z
LAST-MODIFIED:20250703T125733Z
UID:10000069-1752651000-1752660000@www.genest-concrete.com
SUMMARY:SHS Distributors at the Midweek Break in Biddeford
DESCRIPTION:ChatGPT said:\n\n\n\n\n\n\n\n\nJoin us for coffee and conversation with SHS Distributors\, your source for high-end hardscape supplies from PHNA\, the North American importer of GftK’s high-performance epoxy paving joint compounds. \nMeet a knowledgeable rep from SHS and get answers to all your questions about GftK jointing materials like Xtreme Gravel Lock—a two-part epoxy binder for gravel and stone surfaces like pathways\, tree pits\, and wide paver joints. \nNo RSVP needed – just swing by! \n\n\n\n\n\n\n\n\n☕ Free coffee and donuts while they last! \n\nThe Midweek Break is a new weekly event series happening every Wednesday morning in Biddeford (and every Wednesday afternoon in Windham) all summer long. Same time\, same place—built to match your schedule and help you refuel midweek with product demos\, free coffee and refreshments\, and a quick catch-up with vendors you know and trust. \n\n\n\n\n\n\n\n\n\nNo RSVP required—just stop by any time between 7:30 and 10:00 AM. See you there!
URL:https://www.genest-concrete.com/event/shs-distributors-at-the-midweek-break-in-biddeford/
LOCATION:Genest Concrete (Biddeford)\, 544 Elm Street\, Biddeford\, 04005\, United States
CATEGORIES:Biddeford
END:VEVENT
BEGIN:VEVENT
DTSTART;TZID=America/New_York:20250723T073000
DTEND;TZID=America/New_York:20250723T100000
DTSTAMP:20260423T065907
CREATED:20250708T191512Z
LAST-MODIFIED:20250708T191512Z
UID:10000071-1753255800-1753264800@www.genest-concrete.com
SUMMARY:MSI at the Midweek Break in Biddeford
DESCRIPTION:ChatGPT said:\n\n\n\n\n\n\n\n\nStart your morning at our Biddeford location with coffee\, donuts\, and a chance to explore some of MSI’s most popular hardscape products\, including Arterra porcelain pavers\, natural cobblestones\, granite steps\, and decorative Piedra pebbles. \n🌟 2025 Arterra ColorsSee new color options for the 2025 Arterra porcelain paver line and get ideas for your next patio or pool surround! \n👷‍♂️ Talk with the ProsAn MSI rep will be on hand to answer questions\, offer design inspiration\, and help you select the right materials for your upcoming projects. \n🍩 Enjoy coffee and donuts while they last – swing by during your morning supply run! \n\n\n\n\n\n\n\n\nThe Midweek Break is a new weekly event series happening every Wednesday morning in Biddeford (and every Wednesday afternoon in Windham) all summer long. Same time\, same place—built to match your schedule and help you refuel midweek with product demos\, free coffee and refreshments\, and a quick catch-up with vendors you know and trust. \n\n\n\n\n\n\n\n\n\nNo RSVP required—just stop by any time between 7:30 and 10:00 AM. See you there!
URL:https://www.genest-concrete.com/event/msi-at-the-midweek-break-in-biddeford/
LOCATION:Genest Concrete (Biddeford)\, 544 Elm Street\, Biddeford\, 04005\, United States
CATEGORIES:Biddeford
END:VEVENT
BEGIN:VEVENT
DTSTART;TZID=America/New_York:20250730T073000
DTEND;TZID=America/New_York:20250730T100000
DTSTAMP:20260423T065907
CREATED:20250722T141908Z
LAST-MODIFIED:20250722T141908Z
UID:10000073-1753860600-1753869600@www.genest-concrete.com
SUMMARY:Alliance Gator at the Midweek Break in Biddeford
DESCRIPTION:ChatGPT said:\n\n\n\n\n\n\n\n\nStart your Wednesday at our Biddeford location for a Midweek Break event spotlighting Alliance Gator!  An Alliance Gator rep will be on hand to answer questions\, make product recommendations\, and offer a pallet demo of their latest innovation: Gator Nitro‑X fine joint sand. Don’t miss this hands-on learning experience for contractors! \n🍩 Enjoy coffee and donuts while they last – swing by during your morning supply run! \n\n\n\n\n\n\n\n\nThe Midweek Break is a new weekly event series happening every Wednesday morning in Biddeford (and every Wednesday afternoon in Windham) all summer long. Same time\, same place—built to match your schedule and help you refuel midweek with product demos\, free coffee and refreshments\, and a quick catch-up with vendors you know and trust. \n\n\n\n\n\n\n\n\n\nNo RSVP required—just stop by any time between 7:30 and 10:00 AM. See you there!
URL:https://www.genest-concrete.com/event/alliance-gator-at-the-midweek-break-in-biddeford/
LOCATION:Genest Concrete (Biddeford)\, 544 Elm Street\, Biddeford\, 04005\, United States
CATEGORIES:Biddeford
END:VEVENT
END:VCALENDAR