BEGIN:VCALENDAR
VERSION:2.0
PRODID:-//Genest Concrete - ECPv6.15.20//NONSGML v1.0//EN
CALSCALE:GREGORIAN
METHOD:PUBLISH
X-ORIGINAL-URL:https://www.genest-concrete.com
X-WR-CALDESC:Events for Genest Concrete
REFRESH-INTERVAL;VALUE=DURATION:PT1H
X-Robots-Tag:noindex
X-PUBLISHED-TTL:PT1H
BEGIN:VTIMEZONE
TZID:America/New_York
BEGIN:DAYLIGHT
TZOFFSETFROM:-0500
TZOFFSETTO:-0400
TZNAME:EDT
DTSTART:20220313T070000
END:DAYLIGHT
BEGIN:STANDARD
TZOFFSETFROM:-0400
TZOFFSETTO:-0500
TZNAME:EST
DTSTART:20221106T060000
END:STANDARD
BEGIN:DAYLIGHT
TZOFFSETFROM:-0500
TZOFFSETTO:-0400
TZNAME:EDT
DTSTART:20230312T070000
END:DAYLIGHT
BEGIN:STANDARD
TZOFFSETFROM:-0400
TZOFFSETTO:-0500
TZNAME:EST
DTSTART:20231105T060000
END:STANDARD
BEGIN:DAYLIGHT
TZOFFSETFROM:-0500
TZOFFSETTO:-0400
TZNAME:EDT
DTSTART:20240310T070000
END:DAYLIGHT
BEGIN:STANDARD
TZOFFSETFROM:-0400
TZOFFSETTO:-0500
TZNAME:EST
DTSTART:20241103T060000
END:STANDARD
END:VTIMEZONE
BEGIN:VEVENT
DTSTART;TZID=America/New_York:20231115T110000
DTEND;TZID=America/New_York:20231115T140000
DTSTAMP:20260424T121122
CREATED:20231106T145039Z
LAST-MODIFIED:20231115T191941Z
UID:10000018-1700046000-1700056800@www.genest-concrete.com
SUMMARY:Contractor Meet & Greet with Thompson Stone
DESCRIPTION:Meet a representative\, explore product samples\, and learn more about the craftsmanship and expertise behind Thompson Stone’s diverse collection of natural thinstone veneer. Harvested and processed from their own quarries\, mountains\, fields\, and woodlands throughout New England\, Thompson Stone thinstone veneer products are hand selected for color\, the beauty of natural variations\, and superior quality. Thompson Stone offers everything you need for innovative and unique interior and exterior residential\, commercial and landscape applications. Gain insights into design possibilities and learn how this premium quality stone can elevate your next project!
URL:https://www.genest-concrete.com/event/contractor-meet-greet-with-thompson-stone-2/
LOCATION:Genest Concrete (Biddeford)\, 544 Elm Street\, Biddeford\, 04005\, United States
CATEGORIES:Biddeford
END:VEVENT
END:VCALENDAR